1.00000000000000
0.00000000000000
0.00000000000000
-1.00000000000000
531430.09400000004000
5184049.50000000000000
