1.00000000000000
0.00000000000000
0.00000000000000
-1.00000000000000
526190.09400000004000
5184049.50000000000000
