1.00000000000000
0.00000000000000
0.00000000000000
-1.00000000000000
523570.09399999998000
5184049.50000000000000
