1.0000000000
0.0000000000
0.0000000000
-1.0000000000
608400.4110000000
4653653.0470000003
