1.0000000000
0.0000000000
0.0000000000
-1.0000000000
610547.4110000000
4658807.0470000003
