1.0000000000
0.0000000000
0.0000000000
-1.0000000000
604106.4110000000
4661384.0470000003
