1.0000000000
0.0000000000
0.0000000000
-1.0000000000
601959.4110000000
4663961.0470000003
