1.00000000000000
0.00000000000000
0.00000000000000
-1.00000000000000
324964.83799999999000
5124788.54499999990000
