1.00000000000000
0.00000000000000
0.00000000000000
-1.00000000000000
340034.83799999999000
5127208.54499999990000
