1.00000000000000
0.00000000000000
0.00000000000000
-1.00000000000000
337020.83799999999000
5129628.54499999990000
