1.00000000000000
0.00000000000000
0.00000000000000
-1.00000000000000
327978.83799999999000
5129628.54499999990000
