1.00000000000000
0.00000000000000
0.00000000000000
-1.00000000000000
324964.83799999999000
5132048.54499999990000
