1.0000000000
0.0000000000
0.0000000000
-1.0000000000
583480.3959999999
4631135.0769999996
