1.0000000000
0.0000000000
0.0000000000
-1.0000000000
585792.3959999999
4633574.0769999996
