0.3
0
0
-0.3
594000.15
2826599.85
