0.3
0
0
-0.3
588000.15
2817599.85
