0.3
0
0
-0.3
582000.15
2829599.85
