0.3
0
0
-0.3
579000.15
2841599.85
