0.3
0
0
-0.3
579000.15
2796599.85
