0.3
0
0
-0.3
576000.15
2844599.85
