0.3
0
0
-0.3
573000.15
2817599.85
