0.3
0
0
-0.3
573000.15
2808599.85
