0.3
0
0
-0.3
570000.15
2820599.85
