0.3
0
0
-0.3
570000.15
2808599.85
