0.3
0
0
-0.3
564000.15
2793599.85
