0.3
0
0
-0.3
564000.15
2787599.85
