0.3
0
0
-0.3
558000.15
2766599.85
