0.3
0
0
-0.3
555000.15
2784599.85
