0.3
0
0
-0.3
552000.15
2760599.85
