0.3
0
0
-0.3
549000.15
2760599.85
