0.3
0
0
-0.3
546000.15
2763599.85
