0.3
0
0
-0.3
540000.15
2775599.85
