0.3
0
0
-0.3
537000.15
2772599.85
