0.3
0
0
-0.3
537000.15
2754599.85
