0.3
0
0
-0.3
531000.15
2751599.85
