0.3
0
0
-0.3
528000.15
2745599.85
