0.3
0
0
-0.3
525000.15
2739599.85
