0.3
0
0
-0.3
522000.15
2736599.85
