0.3
0
0
-0.3
513000.15
2745599.85
