0.3
0
0
-0.3
504000.15
2742599.85
