0.3
0
0
-0.3
489000.15
2727599.85
