0.3
0
0
-0.3
486000.15
2724599.85
