0.3
0
0
-0.3
480000.15
2736599.85
