0.3
0
0
-0.3
480000.15
2724599.85
