0.3
0
0
-0.3
477000.15
2727599.85
