0.3
0
0
-0.3
471000.15
2748599.85
