0.3
0
0
-0.3
468000.15
2730599.85
