0.3
0
0
-0.3
465000.15
2748599.85
