0.3
0
0
-0.3
465000.15
2733599.85
