0.3
0
0
-0.3
462000.15
2748599.85
